BEGIN:VCALENDAR
VERSION:2.0
PRODID:-//Evangelisches Forum Bonn - ECPv6.15.20//NONSGML v1.0//EN
CALSCALE:GREGORIAN
METHOD:PUBLISH
X-ORIGINAL-URL:https://www.evforum-bonn.de
X-WR-CALDESC:Veranstaltungen für Evangelisches Forum Bonn
REFRESH-INTERVAL;VALUE=DURATION:PT1H
X-Robots-Tag:noindex
X-PUBLISHED-TTL:PT1H
BEGIN:VTIMEZONE
TZID:Europe/Berlin
BEGIN:DAYLIGHT
TZOFFSETFROM:+0100
TZOFFSETTO:+0200
TZNAME:CEST
DTSTART:20240331T010000
END:DAYLIGHT
BEGIN:STANDARD
TZOFFSETFROM:+0200
TZOFFSETTO:+0100
TZNAME:CET
DTSTART:20241027T010000
END:STANDARD
BEGIN:DAYLIGHT
TZOFFSETFROM:+0100
TZOFFSETTO:+0200
TZNAME:CEST
DTSTART:20250330T010000
END:DAYLIGHT
BEGIN:STANDARD
TZOFFSETFROM:+0200
TZOFFSETTO:+0100
TZNAME:CET
DTSTART:20251026T010000
END:STANDARD
BEGIN:DAYLIGHT
TZOFFSETFROM:+0100
TZOFFSETTO:+0200
TZNAME:CEST
DTSTART:20260329T010000
END:DAYLIGHT
BEGIN:STANDARD
TZOFFSETFROM:+0200
TZOFFSETTO:+0100
TZNAME:CET
DTSTART:20261025T010000
END:STANDARD
END:VTIMEZONE
BEGIN:VEVENT
DTSTART;TZID=Europe/Berlin:20250921T140000
DTEND;TZID=Europe/Berlin:20250921T160000
DTSTAMP:20260423T135025
CREATED:20250730T103115Z
LAST-MODIFIED:20260402T102042Z
UID:10006077-1758463200-1758470400@www.evforum-bonn.de
SUMMARY:Pilgerweg - Zusammenhalt in bedrohlichen Zeiten
DESCRIPTION:Im Rahmen der Interkulturellen Woche 2025 laden wir zu einem besonderen Pilgerweg durch Bonn ein. Unter dem Motto „Zusammenhalt in bedrohlichen Zeiten“ machen wir uns gemeinsam auf den Weg zu vier thematischen Stationen. An jedem Ort beschäftigen wir uns mit gesellschaftlich relevanten Fragestellungen – reflektierend\, diskutierend und im Austausch mit anderen Teilnehmenden. \nDie Stationen lauten: \n\n\nZukunft der Erde \n\n\nFreiheit der Wissenschaft \n\n\nGleiches Recht für jeden Menschen \n\n\nZivilcourage \n\n\nDie inhaltlichen Impulse bieten Gelegenheit zur persönlichen Auseinandersetzung mit demokratischen Werten\, globaler Verantwortung und gesellschaftlichem Miteinander. Ziel ist es\, in Bewegung neue Perspektiven zu gewinnen – im wörtlichen wie im übertragenen Sinn. \n🕑 Dauer: ca. 2 Stunden🚶 Der Weg umfasst mehrere Stationen mit ca. 15 Min. Aufenthalt. Zwischen Station 1 und 2 kann alternativ die U-Bahn (2 Haltestellen) genutzt werden.🥪 Verpflegung bitte selbst mitbringen. Die Mitnahme von Fahnen und Transparenten ist nicht erwünscht.📌 Teilnahme begrenzt – Anmeldung bis 19.09.2025 erforderlich! \n📍 Startpunkt: Adenauerallee 160 (Museum Koenig)\, Ziel: Bonn\, Martinsplatz📅 Am 21. September 2025 um 14:00 Uhr👥 Verantwortliche: Hanifa Tosun & Ulrich Thomas \n📧 Anmeldung: BIRZ (Bonner Initiative für Respekt und Zusammenhalt)c/o Ulrich Thomas\, Im Apfelgarten 8\, 53177 BonnTel. 0228 26819801 | E-Mail: mail.ulrich.thomas@web.de \n\nBildrechte EMFA und Integrationsagenturen NRW \nDr. phil. Hıdır Çelik\, Leiter der EMFA-Integrationsagentur im Evangelischen Kirchenkreis Bonn\nKontakt: EMFA-Integrationsagentur\, Brüdergasse 16-18\, 53111 Bonn\, Tel.: 0228/697491\, E-Mail: emfa@bonn-evangelisch.de \nDie Interkulturelle Woche wird vom „Amt für Integration und Vielfalt“ der Bundesstadt Bonn gefördert.
URL:https://www.evforum-bonn.de/veranstaltung/interkulturelle-woche-in-bonn_pilgerweg/
LOCATION:Museum König\, Adenauerallee 160\, Bonn\, 53113\, Deutschland
CATEGORIES:Demokratie-Krieg,Existenzielle Fragestellungen,Exkursion - Ausflug - Tour,Kunst - Musik - Literatur,Migration - Kultur - Kultureller Austausch,Philosophisch-psychologische Kaffeehausgespräche,Politik - Geschichte - Soziologie,Theologie / Philosophie,Veranstaltungen von Gemeinden,Veranstaltungen von Institutionen und Verbänden,Veranstaltungsreihen,Wissenschaftsstadt
ATTACH;FMTTYPE=image/png:https://www.evforum-bonn.de/wp-content/uploads/2025/04/Interkulturelle-Woche-2025.png
END:VEVENT
BEGIN:VEVENT
DTSTART;TZID=Europe/Berlin:20250326T150000
DTEND;TZID=Europe/Berlin:20250326T170000
DTSTAMP:20260423T135025
CREATED:20250203T111804Z
LAST-MODIFIED:20250203T114727Z
UID:10005303-1743001200-1743008400@www.evforum-bonn.de
SUMMARY:Kulturnachmittag in Trinitatis
DESCRIPTION:26.03.2025 – Museum König – Bonn\nAlexander Koenig und sein Museum \nSabine Kortendieck führt uns durch das Museum Koenig\, erzählt aus dem Leben seines Gründers Alexander Koenig (1858-1940) und zeigt Fotos von der Grundsteinlegung des Museumsgebäudes 1912 bis zur Eröffnungssitzung des Parlamentarischen Rates am 1. September 1948. Anmeldung unter 0228-97840-11
URL:https://www.evforum-bonn.de/veranstaltung/kulturnachmittag-in-trinitatis03-25-copy/
LOCATION:Museum König\, Adenauerallee 160\, Bonn\, 53113\, Deutschland
CATEGORIES:Seniorenbildung,Veranstaltungen von Gemeinden
ATTACH;FMTTYPE=image/jpeg:https://www.evforum-bonn.de/wp-content/uploads/2025/02/Museum-Koenig-Bonn.jpg
END:VEVENT
END:VCALENDAR