BEGIN:VCALENDAR
VERSION:2.0
PRODID:-//Evangelisches Forum Bonn - ECPv6.15.20//NONSGML v1.0//EN
CALSCALE:GREGORIAN
METHOD:PUBLISH
X-ORIGINAL-URL:https://www.evforum-bonn.de
X-WR-CALDESC:Veranstaltungen für Evangelisches Forum Bonn
REFRESH-INTERVAL;VALUE=DURATION:PT1H
X-Robots-Tag:noindex
X-PUBLISHED-TTL:PT1H
BEGIN:VTIMEZONE
TZID:Europe/Berlin
BEGIN:DAYLIGHT
TZOFFSETFROM:+0100
TZOFFSETTO:+0200
TZNAME:CEST
DTSTART:20240331T010000
END:DAYLIGHT
BEGIN:STANDARD
TZOFFSETFROM:+0200
TZOFFSETTO:+0100
TZNAME:CET
DTSTART:20241027T010000
END:STANDARD
BEGIN:DAYLIGHT
TZOFFSETFROM:+0100
TZOFFSETTO:+0200
TZNAME:CEST
DTSTART:20250330T010000
END:DAYLIGHT
BEGIN:STANDARD
TZOFFSETFROM:+0200
TZOFFSETTO:+0100
TZNAME:CET
DTSTART:20251026T010000
END:STANDARD
BEGIN:DAYLIGHT
TZOFFSETFROM:+0100
TZOFFSETTO:+0200
TZNAME:CEST
DTSTART:20260329T010000
END:DAYLIGHT
BEGIN:STANDARD
TZOFFSETFROM:+0200
TZOFFSETTO:+0100
TZNAME:CET
DTSTART:20261025T010000
END:STANDARD
END:VTIMEZONE
BEGIN:VEVENT
DTSTART;TZID=Europe/Berlin:20250831T140000
DTEND;TZID=Europe/Berlin:20250831T153000
DTSTAMP:20260423T135116
CREATED:20250805T072946Z
LAST-MODIFIED:20250805T073017Z
UID:10006108-1756648800-1756654200@www.evforum-bonn.de
SUMMARY:Gottesdienst zum Auftakt der Bonner Friedenstage 2025
DESCRIPTION:Mit einem feierlichen und zugleich nachdenklichen Gottesdienst starten wir in die diesjährigen Bonner Friedenstage.Inmitten zahlreicher Gedenktage – wie der Befreiung von Auschwitz (27. Januar)\, dem Kriegsende in Europa (8. Mai)\, der Atombombenabwürfe auf Hiroshima und Nagasaki (6./9. August) – rufen wir die Opfer von Gewalt und Krieg in Erinnerung. \nEin besonderer Moment der Besinnung\, des Gebets und der Hoffnung auf Frieden. \nMitwirkende: \n\n\nStefan Kandels\, Diakon der alt-katholischen Gemeinde St. Cyprian / Namen-Jesu-Kirche \n\n\nDr. Anne Kathrin Quaas\, Pfarrerin & Leiterin des Evangelischen Forums Bonn \n\n\nUlrich Kollwitz\, katholischer Priester \nMusik: Beueler Friedensgruppe \n\n\n\n✨ Alle sind herzlich eingeladen am Sonntag\, den 31. August 2025 | 14:00 Uhr – Namen-Jesu-Kirche\, Bonngasse 8\, BonnGemeinsam setzen wir ein Zeichen: für Frieden\, Menschlichkeit und gegen das Vergessen.
URL:https://www.evforum-bonn.de/veranstaltung/gottesdienst-zum-auftakt-der-bonner-friedenstage-2025/
LOCATION:Namen-Jesu-Kirche\, Bonngasse 8\, Bonn\, NRW\, 53111\, Germany
CATEGORIES:Demokratie-Krieg,Gottesdienst und Bildung,Politik - Geschichte - Soziologie,Theologie / Philosophie,Veranstaltungen von Institutionen und Verbänden
ATTACH;FMTTYPE=image/png:https://www.evforum-bonn.de/wp-content/uploads/2025/08/Bonner-Friedenstage-2025-e1754378950802.png
END:VEVENT
END:VCALENDAR