BEGIN:VCALENDAR
VERSION:2.0
PRODID:-//Evangelisches Forum Bonn - ECPv6.15.20//NONSGML v1.0//EN
CALSCALE:GREGORIAN
METHOD:PUBLISH
X-WR-CALNAME:Evangelisches Forum Bonn
X-ORIGINAL-URL:https://www.evforum-bonn.de
X-WR-CALDESC:Veranstaltungen für Evangelisches Forum Bonn
REFRESH-INTERVAL;VALUE=DURATION:PT1H
X-Robots-Tag:noindex
X-PUBLISHED-TTL:PT1H
BEGIN:VTIMEZONE
TZID:Europe/Berlin
BEGIN:DAYLIGHT
TZOFFSETFROM:+0100
TZOFFSETTO:+0200
TZNAME:CEST
DTSTART:20240331T010000
END:DAYLIGHT
BEGIN:STANDARD
TZOFFSETFROM:+0200
TZOFFSETTO:+0100
TZNAME:CET
DTSTART:20241027T010000
END:STANDARD
BEGIN:DAYLIGHT
TZOFFSETFROM:+0100
TZOFFSETTO:+0200
TZNAME:CEST
DTSTART:20250330T010000
END:DAYLIGHT
BEGIN:STANDARD
TZOFFSETFROM:+0200
TZOFFSETTO:+0100
TZNAME:CET
DTSTART:20251026T010000
END:STANDARD
BEGIN:DAYLIGHT
TZOFFSETFROM:+0100
TZOFFSETTO:+0200
TZNAME:CEST
DTSTART:20260329T010000
END:DAYLIGHT
BEGIN:STANDARD
TZOFFSETFROM:+0200
TZOFFSETTO:+0100
TZNAME:CET
DTSTART:20261025T010000
END:STANDARD
END:VTIMEZONE
BEGIN:VEVENT
DTSTART;TZID=Europe/Berlin:20250504T180000
DTEND;TZID=Europe/Berlin:20250504T193000
DTSTAMP:20260423T104324
CREATED:20250411T110631Z
LAST-MODIFIED:20250411T110631Z
UID:10005648-1746381600-1746387000@www.evforum-bonn.de
SUMMARY:Interreligiöse Gottesdienst mit Einladung zum Dialog
DESCRIPTION:Am Sonntag\, 04. Mai 2025 um 18 Uhr in der Pauluskirche\n\n„Wozu nach Mekka zu pilgern\, wenn man Gott überall bei sich hat?“ …fragte der Mystiker Scheich Bahai. \nDer interreligiöse Gottesdienst lädt durch verschiedene Zugänge zur Begegnung mit Gott ein. Der Gottesdienst wird mit Dr. Hussein Pur Khassalian vom MuChri-Dialogkreis gestaltet. \n „Die Veranstaltung versteht sich als Beitrag zur interreligiösen Bildung und lädt zum Dialog über spirituelle Wege und kulturelle Vielfalt ein.“ \nAK Muslime & Christen im Bonner Norden – Gemeindeleben & Gottesdienste – St. Petrus Bonn
URL:https://www.evforum-bonn.de/veranstaltung/interreligioese-gottesdienst-mit-einladung-zum-dialog/
LOCATION:Ev. Pauluskirche Bad Godesberg\, In der Maar 7\, Bonn\, NRW\, 53175\, Germany
CATEGORIES:Bibel und Buch,Gottesdienst und Bildung,Lesung - Vortrag,Migration - Kultur - Kultureller Austausch,Theologie / Philosophie
ATTACH;FMTTYPE=image/png:https://www.evforum-bonn.de/wp-content/uploads/2025/04/MuChri_Muslime-und-Christen-im-Bonner-Norden-e1744369288449.png
END:VEVENT
END:VCALENDAR