BEGIN:VCALENDAR
VERSION:2.0
PRODID:-//Evangelisches Forum Bonn - ECPv6.15.20//NONSGML v1.0//EN
CALSCALE:GREGORIAN
METHOD:PUBLISH
X-ORIGINAL-URL:https://www.evforum-bonn.de
X-WR-CALDESC:Veranstaltungen für Evangelisches Forum Bonn
REFRESH-INTERVAL;VALUE=DURATION:PT1H
X-Robots-Tag:noindex
X-PUBLISHED-TTL:PT1H
BEGIN:VTIMEZONE
TZID:Europe/Berlin
BEGIN:DAYLIGHT
TZOFFSETFROM:+0100
TZOFFSETTO:+0200
TZNAME:CEST
DTSTART:20240331T010000
END:DAYLIGHT
BEGIN:STANDARD
TZOFFSETFROM:+0200
TZOFFSETTO:+0100
TZNAME:CET
DTSTART:20241027T010000
END:STANDARD
BEGIN:DAYLIGHT
TZOFFSETFROM:+0100
TZOFFSETTO:+0200
TZNAME:CEST
DTSTART:20250330T010000
END:DAYLIGHT
BEGIN:STANDARD
TZOFFSETFROM:+0200
TZOFFSETTO:+0100
TZNAME:CET
DTSTART:20251026T010000
END:STANDARD
BEGIN:DAYLIGHT
TZOFFSETFROM:+0100
TZOFFSETTO:+0200
TZNAME:CEST
DTSTART:20260329T010000
END:DAYLIGHT
BEGIN:STANDARD
TZOFFSETFROM:+0200
TZOFFSETTO:+0100
TZNAME:CET
DTSTART:20261025T010000
END:STANDARD
BEGIN:DAYLIGHT
TZOFFSETFROM:+0100
TZOFFSETTO:+0200
TZNAME:CEST
DTSTART:20270328T010000
END:DAYLIGHT
BEGIN:STANDARD
TZOFFSETFROM:+0200
TZOFFSETTO:+0100
TZNAME:CET
DTSTART:20271031T010000
END:STANDARD
END:VTIMEZONE
BEGIN:VEVENT
DTSTART;TZID=Europe/Berlin:20260305T193000
DTEND;TZID=Europe/Berlin:20260305T210000
DTSTAMP:20260423T105413
CREATED:20260220T112520Z
LAST-MODIFIED:20260225T115439Z
UID:10006955-1772739000-1772744400@www.evforum-bonn.de
SUMMARY:Podium im Bonner Münster
DESCRIPTION:HIER Kostenfreies Ticket sichern\n \nDas Stadtdekanat Bonn veranstaltet zusammen mit dem Katholischen Bildungsforum\, der Caritas Bonn\, der Katholischen Beratungsstelle für Ehe-\, Familien- und Lebensfragen\, dem Katholikenrat\, der Diakonie\, dem Evangelischen Forum Bonn und der Telefon-Seelsorge am 5. März 2026 das \nPodium im Bonner Münster »Einsamkeit – (k)ein Tabu«\nZum Hintergrund:\nEinsamkeit ist eine der größten gesellschaftlichen Herausforderungen unserer Zeit\, die sich nicht auf eine Personengruppe beschränkt\, sondern jeden\, unabhängig von Alter\, sozialer Schicht und Gruppenzugehörigkeit treffen kann. Was der eine als wohltuendes Alleinsein (positive Isolation) empfindet\, kann für den anderen quälende Einsamkeit bedeuten. Es gibt keine feste medizinische Definition oder einen objektiven Gradmesser für Einsamkeit. Das Gefühl ist unabhängig von der tatsächlichen Anzahl der Menschen um einen herum. Oftmals ist Einsamkeit mit Scham behaftet\, weshalb Betroffene selten offen darüber sprechen. \nWir bringen das Thema mit Experten in die Öffentlichkeit. \nDas Podium im Bonner Münster ist der Auftakt einer Reihe von Veranstaltungen zum Thema Einsamkeit\, die mit allen Kooperationspartnern in den kommenden Monaten umgesetzt werden. \nModerator Martin Mölder erwartet folgende Podiumsgäste:\n\nDr. Aike Horstmann\nLehrstuhl Sozialpsychologie: Medien und Kommunikation\, Universität Duisburg-Essen\nUrsula Dannhäuser\nDiplom-Psychologin\, Leiterin der Kath. Beratungsstelle für Ehe-\, Familien- und Lebensfragen\nMsgr. Prof. Dr. Peter Schallenberg\nLehrstuhl Moraltheologie\, Katholisch-theologische Fakultät Paderborn\, christlicher Sozialwissenschaftler\nPfarrer Dirk Baumhof\nPsychiatrieseelsorger\, LVR-Klinik Bonn\nProf. Dr. Kai-Uwe Kühn\nChefarzt der Gerontopsychiatrie und Psychotherapie\, LVR-Klinik Bonn\n\nDer Einlass erfolgt über die Gerhard-von-Are-Straße / Eingang Kreuzgang.\n \nEinsamkeit – (k)ein Tabu – Donnerstag 05.03.26\, 19:30
URL:https://www.evforum-bonn.de/veranstaltung/podium-im-bonner-muenster/
LOCATION:Podium im Bonner Münster\, Gerhard-von-Are-Str. 5\, Bonn\, NRW\, 53113\, Germany
CATEGORIES:Aktuelles,Ev. Forum Bonn,Existenzielle Fragestellungen,Theologie / Philosophie,Veranstaltungen von Institutionen und Verbänden,Veranstaltungsreihen,Zentralprogramm
ATTACH;FMTTYPE=image/jpeg:https://www.evforum-bonn.de/wp-content/uploads/2026/02/Image_Kooperationsreihe-e1772019556201.jpg
END:VEVENT
BEGIN:VEVENT
DTSTART;TZID=Europe/Berlin:20250903T193000
DTEND;TZID=Europe/Berlin:20250903T220000
DTSTAMP:20260423T105413
CREATED:20250610T103433Z
LAST-MODIFIED:20250805T135640Z
UID:10005793-1756927800-1756936800@www.evforum-bonn.de
SUMMARY:Podium zur OB-Wahl am 3. September
DESCRIPTION:Unter dem Motto „Wem gehört die Stadt?“ laden die evangelische und katholische Kirche am Mittwoch\, 3. September 2025\, 19.30 Uhr zu einem außergewöhnlichen Podium im Bonner Münster ein.  \n \n  \n  \n  \n  \n  \n„Wir haben bewusst die Bonner Münsterbasilika in der Mitte unserer Stadt für dieses Podium gewählt“\, erklären Stadtdechant und Innenstadtpfarrer Msgr. Dr. Markus Hofmann sowie Superintendent Dietmar Pistorius. Denn Kirchen seien „Schutzraum und Denkraum für neue Gedanken zugleich“. \nAls wichtige Mitgestalterinnen in der Bonner Stadtgesellschaft sei es den Kirchen zudem wichtig\, ein eigenes Podium für die Kommunalwahl anzubieten. Dabei soll es neben brennenden kommunalpolitischen Themen auch um christliche Werte wie Barmherzigkeit\, Verantwortung füreinander und Sorge für das Gemeinwohl gehen. „In Bonn leben gut 340.000 Menschen mit unterschiedlichen Lebensgeschichten\, Bedürfnissen und Hoffnungen. Sie suchen nach Sicherheit\, Arbeit\, Wohnraum\, Teilhabe und einem guten Leben. Diese Vielfalt prägt unsere Stadt und diesen Stimmen wollen wir Öffentlichkeit geben\, auch denen\, die wenig oder gar nicht gehört werden im politischen Alltag“\, so Stadtdechant Hofmann und Superintendent Pistorius. \nZugleich gibt das Podium\, das auch musikalische die eine oder andere Überraschung bietet\, die Chance\, die OB-Kandidatinnen und Kandidaten besser kennenzulernen: Wofür stehen Sie? Was ist Ihnen wichtig?  Und auch mit so persönlichen Fragen wie: Was ist Ihnen heilig? \nEs moderieren Karin Dierkes vom Katholischen Bildungsforum Bonn und Pressepfarrer Joachim Gerhardt vom Evangelischen Kirchenkreis Bonn. \nTeilnehmen die OB-Kandidatinnen und Kandidaten:\nGuido Déus | CDU\nKatja Dörner | Bündnis 90/Die Grünen\nMichael Faber | Die Linke\nPetra Nöhring | FDP\nJochen Reeh-Schall | SPD\nJohannes Schott | Bürger Bund Bonn \nAnmeldung erbeten – Tickets kostenfrei\nIm Anschluss an die Veranstaltung sind alle Teilnehmenden zu einem Come-together mit den Kandidatinnen und Kandidaten in den Kreuzgang eingeladen. Veranstalter sind das Katholische Stadtdekanat Bonn \, der Evangelische Kirchenkreis Bonn\, das Evangelische Forum Bonn  sowie das Katholische Bildungsforum Bonn . \nDer Einlass zur Veranstaltung erfolgt über den Kreuzgang/Gerhard-von-Are-Straße ab 18.30 Uhr.\nFür eine bessere Planung bitte Anmeldung und Buchung eines kostenfreien Tickets. \nHier geht‘s zur Anmeldung \n(Juli 2025 / ger)
URL:https://www.evforum-bonn.de/veranstaltung/podium-zur-ob-wahl-am-3-september/
LOCATION:Podium im Bonner Münster\, Gerhard-von-Are-Str. 5\, Bonn\, NRW\, 53113\, Germany
CATEGORIES:Aktuelles,Demokratie-Krieg,Existenzielle Fragestellungen,Politik - Geschichte - Soziologie,Theologie / Philosophie,Zentralprogramm
ATTACH;FMTTYPE=image/jpeg:https://www.evforum-bonn.de/wp-content/uploads/2025/06/Rathaus-Bonn-e1749552451391.jpg
END:VEVENT
END:VCALENDAR